BEGIN:VCALENDAR
VERSION:2.0
PRODID:-//Fohl Church - ECPv6.0.12//NONSGML v1.0//EN
CALSCALE:GREGORIAN
METHOD:PUBLISH
X-WR-CALNAME:Fohl Church
X-ORIGINAL-URL:https://fohlchurch.org
X-WR-CALDESC:Events for Fohl Church
REFRESH-INTERVAL;VALUE=DURATION:PT1H
X-Robots-Tag:noindex
X-PUBLISHED-TTL:PT1H
BEGIN:VTIMEZONE
TZID:America/New_York
BEGIN:DAYLIGHT
TZOFFSETFROM:-0500
TZOFFSETTO:-0400
TZNAME:EDT
DTSTART:20230312T070000
END:DAYLIGHT
BEGIN:STANDARD
TZOFFSETFROM:-0400
TZOFFSETTO:-0500
TZNAME:EST
DTSTART:20231105T060000
END:STANDARD
END:VTIMEZONE
BEGIN:VEVENT
DTSTART;TZID=America/New_York:20230603T090000
DTEND;TZID=America/New_York:20230603T120000
DTSTAMP:20260424T204651
CREATED:20230513T153623Z
LAST-MODIFIED:20230513T153623Z
UID:1004-1685782800-1685793600@fohlchurch.org
SUMMARY:Trustee Cleanup Day
DESCRIPTION:Join us for a few hours of cleanup around the church
URL:https://fohlchurch.org/event/trustee-cleanup-day/
LOCATION:Fohl Church\, 121 Basin St NW\, Navarre\, OH\, 44662\, United States
END:VEVENT
END:VCALENDAR