BEGIN:VCALENDAR
VERSION:2.0
PRODID:-//Fohl Church - ECPv6.0.12//NONSGML v1.0//EN
CALSCALE:GREGORIAN
METHOD:PUBLISH
X-WR-CALNAME:Fohl Church
X-ORIGINAL-URL:https://fohlchurch.org
X-WR-CALDESC:Events for Fohl Church
REFRESH-INTERVAL;VALUE=DURATION:PT1H
X-Robots-Tag:noindex
X-PUBLISHED-TTL:PT1H
BEGIN:VTIMEZONE
TZID:America/New_York
BEGIN:DAYLIGHT
TZOFFSETFROM:-0500
TZOFFSETTO:-0400
TZNAME:EDT
DTSTART:20230312T070000
END:DAYLIGHT
BEGIN:STANDARD
TZOFFSETFROM:-0400
TZOFFSETTO:-0500
TZNAME:EST
DTSTART:20231105T060000
END:STANDARD
END:VTIMEZONE
BEGIN:VEVENT
DTSTART;TZID=America/New_York:20230513T170000
DTEND;TZID=America/New_York:20230513T200000
DTSTAMP:20260425T112228
CREATED:20230427T154254Z
LAST-MODIFIED:20230427T154254Z
UID:925-1683997200-1684008000@fohlchurch.org
SUMMARY:Mother's Day Banquet
DESCRIPTION:Join us in honoring and celebrating mothers! Enjoy a meal\, live music (Chris McBurney) and fellowship. All are welcome! \nClick Here to RSVP \nClick Here to Volunteer
URL:https://fohlchurch.org/event/mothers-day-banquet/
LOCATION:OH
END:VEVENT
BEGIN:VEVENT
DTSTART;TZID=America/New_York:20230520T173000
DTEND;TZID=America/New_York:20230520T203000
DTSTAMP:20260425T112228
CREATED:20230513T193002Z
LAST-MODIFIED:20230513T193002Z
UID:1012-1684603800-1684614600@fohlchurch.org
SUMMARY:Youth Night
DESCRIPTION:Join us on youth nights for food\, games\, Biblical talks\, small group discussions and of course\, lots of fun
URL:https://fohlchurch.org/event/youth-night-4/
LOCATION:Fohl Church\, 121 Basin St NW\, Navarre\, OH\, 44662\, United States
END:VEVENT
BEGIN:VEVENT
DTSTART;TZID=America/New_York:20230524T180000
DTEND;TZID=America/New_York:20230524T190000
DTSTAMP:20260425T112228
CREATED:20230513T200823Z
LAST-MODIFIED:20230513T200823Z
UID:1043-1684951200-1684954800@fohlchurch.org
SUMMARY:Wednesday Worship Service
DESCRIPTION:Join us for our Wednesday evening worship service.
URL:https://fohlchurch.org/event/wednesday-worship-service/
LOCATION:Fohl Church\, 121 Basin St NW\, Navarre\, OH\, 44662\, United States
END:VEVENT
BEGIN:VEVENT
DTSTART;TZID=America/New_York:20230526T173000
DTEND;TZID=America/New_York:20230526T203000
DTSTAMP:20260425T112228
CREATED:20230513T153051Z
LAST-MODIFIED:20230513T153051Z
UID:1000-1685122200-1685133000@fohlchurch.org
SUMMARY:Youth Game Night (Games & Food)
DESCRIPTION:Join us for games\, food and fellowship.
URL:https://fohlchurch.org/event/youth-game-night-games-food/
LOCATION:Fohl Church\, 121 Basin St NW\, Navarre\, OH\, 44662\, United States
END:VEVENT
BEGIN:VEVENT
DTSTART;TZID=America/New_York:20230603T090000
DTEND;TZID=America/New_York:20230603T120000
DTSTAMP:20260425T112228
CREATED:20230513T153623Z
LAST-MODIFIED:20230513T153623Z
UID:1004-1685782800-1685793600@fohlchurch.org
SUMMARY:Trustee Cleanup Day
DESCRIPTION:Join us for a few hours of cleanup around the church
URL:https://fohlchurch.org/event/trustee-cleanup-day/
LOCATION:Fohl Church\, 121 Basin St NW\, Navarre\, OH\, 44662\, United States
END:VEVENT
BEGIN:VEVENT
DTSTART;TZID=America/New_York:20230607T180000
DTEND;TZID=America/New_York:20230607T190000
DTSTAMP:20260425T112228
CREATED:20230513T201102Z
LAST-MODIFIED:20230513T201102Z
UID:1046-1686160800-1686164400@fohlchurch.org
SUMMARY:Wednesday Worship Service
DESCRIPTION:Join us for our Wednesday evening Worship Service.
URL:https://fohlchurch.org/event/wednesday-worship-service-2/
LOCATION:Fohl Church\, 121 Basin St NW\, Navarre\, OH\, 44662\, United States
END:VEVENT
BEGIN:VEVENT
DTSTART;TZID=America/New_York:20230617T173000
DTEND;TZID=America/New_York:20230617T203000
DTSTAMP:20260425T112228
CREATED:20230513T153721Z
LAST-MODIFIED:20230513T153721Z
UID:1006-1687023000-1687033800@fohlchurch.org
SUMMARY:Youth Night
DESCRIPTION:Join us on youth nights for food\, games\, Biblical talks\, small group discussions and of course\, lots of fun
URL:https://fohlchurch.org/event/youth-night-3/
LOCATION:Fohl Church\, 121 Basin St NW\, Navarre\, OH\, 44662\, United States
END:VEVENT
BEGIN:VEVENT
DTSTART;TZID=America/New_York:20230618T103000
DTEND;TZID=America/New_York:20230624T170000
DTSTAMP:20260425T112228
CREATED:20230513T153339Z
LAST-MODIFIED:20230513T153339Z
UID:1002-1687084200-1687626000@fohlchurch.org
SUMMARY:Fohl Mission Trip
DESCRIPTION:This year’s mission trip will be to Oak Hill United Methodist Church in Oak Hill\, West Virginia. We will leave on Sunday\, June 18th after worship and return Saturday June 24th
URL:https://fohlchurch.org/event/fohl-mission-trip/
LOCATION:OH
END:VEVENT
END:VCALENDAR