BEGIN:VCALENDAR
VERSION:2.0
PRODID:-//Fohl Church - ECPv6.0.12//NONSGML v1.0//EN
CALSCALE:GREGORIAN
METHOD:PUBLISH
X-WR-CALNAME:Fohl Church
X-ORIGINAL-URL:https://fohlchurch.org
X-WR-CALDESC:Events for Fohl Church
REFRESH-INTERVAL;VALUE=DURATION:PT1H
X-Robots-Tag:noindex
X-PUBLISHED-TTL:PT1H
BEGIN:VTIMEZONE
TZID:UTC
BEGIN:STANDARD
TZOFFSETFROM:+0000
TZOFFSETTO:+0000
TZNAME:UTC
DTSTART:20230101T000000
END:STANDARD
END:VTIMEZONE
BEGIN:VEVENT
DTSTART;TZID=UTC:20230129T093000
DTEND;TZID=UTC:20230129T110000
DTSTAMP:20260426T001631
CREATED:20230125T145720Z
LAST-MODIFIED:20230125T145720Z
UID:32-1674984600-1674990000@fohlchurch.org
SUMMARY:Worship
DESCRIPTION:All are welcome to join us for Worship\, every Sunday at 9:30 A.M.
URL:https://fohlchurch.org/event/worship/
LOCATION:Fohl Church\, 121 Basin St NW\, Navarre\, OH\, 44662\, United States
END:VEVENT
END:VCALENDAR